BEGIN:VCALENDAR
VERSION:2.0
PRODID:-//BELhospice - ECPv6.15.20//NONSGML v1.0//EN
CALSCALE:GREGORIAN
METHOD:PUBLISH
X-ORIGINAL-URL:https://belhospice.org
X-WR-CALDESC:Events for BELhospice
REFRESH-INTERVAL;VALUE=DURATION:PT1H
X-Robots-Tag:noindex
X-PUBLISHED-TTL:PT1H
BEGIN:VTIMEZONE
TZID:UTC
BEGIN:STANDARD
TZOFFSETFROM:+0000
TZOFFSETTO:+0000
TZNAME:UTC
DTSTART:20220101T000000
END:STANDARD
END:VTIMEZONE
BEGIN:VEVENT
DTSTART;TZID=UTC:20231201T080000
DTEND;TZID=UTC:20231231T170000
DTSTAMP:20260421T224425
CREATED:20230402T153752Z
LAST-MODIFIED:20230402T153752Z
UID:4416-1701417600-1704042000@belhospice.org
SUMMARY:Božićna gala večera
DESCRIPTION:Ovaj humanitarni događaj biće održan krajem decembra u hotelu Hyatt u Beogradu i ima za cilj prikupljanje sredstava za Hospis u kući za decu. Ova sredstva će omogućiti BELhospice-u da nastavi da pruža podršku deci koja boluju od životno ograničavajućih bolesti i njihovim roditeljima u njihovim domovima u Beogradu. \nUkoliko je vaša kompanija zainteresovana da učestvuje na bilo kojem događaju\, molim vas kontaktirajte valentina.perovic@belhospice.org \nkako bismo vam dostavili više informacija o fandrejzing programu.
URL:https://belhospice.org/event/bozicna-gala-vecera/
CATEGORIES:Dogadjaji
ATTACH;FMTTYPE=image/jpeg:https://belhospice.org/wp-content/uploads/2023/04/gala-glavna.jpg
END:VEVENT
BEGIN:VEVENT
DTSTART;TZID=UTC:20231105T080000
DTEND;TZID=UTC:20231220T170000
DTSTAMP:20260421T224425
CREATED:20230402T184130Z
LAST-MODIFIED:20230402T184420Z
UID:4459-1699171200-1703091600@belhospice.org
SUMMARY:Ispunite želju\, promenite nečiji život!
DESCRIPTION:Ispunite želju\, promenite nečiji život! \nCilj kampanje je prikupljanje sredstava kako bi se ispunile božićne želje dece koja boluju od životno ograničavajućih bolesti koje BELhospice zbrinjava u Beogradu. \n \nVaša podrška će biti promovisana putem bilbord kampanje na 10 lokacija u Beogradu u trajanju od 7 dana. \n  \nKampanja će trajati od novembra do 20. decembra 2023. godine. \n  \nPokloni će biti podeljeni deci u poslednjoj nedelji decembra. \nZa više informacija o kampanji Ispuni želju\, promeni nečiji život možeta da nas kontaktirate na email: valentina.perovic@belhospice.org \nFor more information on this BELhospice campaign\, please contact us by email: valentina.perovic@belhospice.org
URL:https://belhospice.org/event/ispunite-zelju-promenite-neciji-zivot/
CATEGORIES:Kampanje
ATTACH;FMTTYPE=image/jpeg:https://belhospice.org/wp-content/uploads/2023/04/zelja.jpg
END:VEVENT
BEGIN:VEVENT
DTSTART;VALUE=DATE:20230909
DTEND;VALUE=DATE:20230910
DTSTAMP:20260421T224425
CREATED:20230402T153442Z
LAST-MODIFIED:20230402T182125Z
UID:4414-1694217600-1694303999@belhospice.org
SUMMARY:BELhospice humanitarni bal – najveći BELhospice fandrejzing događaj
DESCRIPTION:Tematski BELhospice humanitarni bal je najveći i najznačajniji događaj na kojem predstavljamo rezultate koje je BELhospice postigao u prethodnoj godini. \nKoristimo i ovu priliku da predstavimo ciljeve za narednu godinu i ukažemo na veliku potrebu koja postoji za kvalitetnim palijativnim zbrinjavanjem obolelih od raka\, kao i da prikupimo preko potrebna sredstva za dalji rad. \nOvaj događaj okuplja brojne predstavnike diplomatskog kora\, korporativnog sektora i istaknute javne ličnosti.
URL:https://belhospice.org/event/belhospice-humanitarni-bal-najveci-belhospice-fandrejzing-dogadaj/
CATEGORIES:Dogadjaji
ATTACH;FMTTYPE=image/png:https://belhospice.org/wp-content/uploads/2023/04/bal-glavna.png
END:VEVENT
BEGIN:VEVENT
DTSTART;TZID=UTC:20230601T080000
DTEND;TZID=UTC:20230630T170000
DTSTAMP:20260421T224426
CREATED:20230402T153221Z
LAST-MODIFIED:20230402T153243Z
UID:4398-1685606400-1688144400@belhospice.org
SUMMARY:Humanitarni turnir u tenisu BELhospice OPEN
DESCRIPTION:Humanitarni turnir u tenisu BELhospice OPEN  \nBELhospice OPEN je tradicionalni BELhospice događaj koji svake godine\, krajem septembra\, okuplja rekreativne tenisere. \nTurnir će se održati na terenima Teniskog centra Novak u Beogradu. \n \nTurnir se organizuje u muškoj i ženskoj konkurenciji. \nZa sve dodatne informacije o sponzorskim paketima možete da nas kontaktirate na email: predrag.simic@belhospice.org i events@belhospice.org
URL:https://belhospice.org/event/humanitarni-turnir-u-tenisu-belhospice-open/
CATEGORIES:Dogadjaji
ATTACH;FMTTYPE=image/jpeg:https://belhospice.org/wp-content/uploads/2023/04/tenis-glavna.jpg
END:VEVENT
BEGIN:VEVENT
DTSTART;VALUE=DATE:20230601
DTEND;VALUE=DATE:20230602
DTSTAMP:20260421T224426
CREATED:20230402T143056Z
LAST-MODIFIED:20230402T143056Z
UID:4384-1685577600-1685663999@belhospice.org
SUMMARY:Humanitarni turnir u fudbalu i basketu
DESCRIPTION:Turnir u malom fudbalu je najstariji BELhospice humanitarni događaj. \nSvake godine\, oko 16 kompnanija okupi svoje timove koji provedu dan u takmičenju za BELhospice trofej. \nOd 2018. godine\, BELhospice organizuje humanitarni turnir u basketu. \n \nOvi turniri su odlična prilika za promociju i tim building i biće organizovani u junu 2023. godine u sportskom centru Kovilovo. \nZa sve dodatne informacije o sponzorskim paketima možete da kontaktirate našeg fandrejzera na email: predrag.simic@belhospice.org i events@belhospice.org
URL:https://belhospice.org/event/humanitarni-turnir-u-fudbalu-i-basketu/
CATEGORIES:Dogadjaji
ATTACH;FMTTYPE=image/jpeg:https://belhospice.org/wp-content/uploads/2023/04/fudbal.jpg
END:VEVENT
BEGIN:VEVENT
DTSTART;TZID=UTC:20230501T080000
DTEND;TZID=UTC:20230701T170000
DTSTAMP:20260421T224426
CREATED:20230402T142832Z
LAST-MODIFIED:20230402T142832Z
UID:4382-1682928000-1688230800@belhospice.org
SUMMARY:Hike and Bike for BELhospice
DESCRIPTION:Hike and Bike for BELhospice \nCilj ovog događaja je promocija zdravog stila života i provođenja vremena u prirodi. \nPlanirano je da se ova dobrotvorna akcija održi u maju i junu 2023. \nDogađaj će biti promovisan putem bilborda\, na istaknutim lokacijama u gradu\, kao i putem BELhospice društvenih mreža. \n \nU ime svojih zaposlenih\, kompanija bira jednu od pešačkih ili biciklističkih tura koje će se organizovati na različitim lokacijama u Srbiji. \nBELhospice će obezbediti promociju i vidljivost vaše kompanije na bilbordima u zavisnosti od sponzorksog paketa koje ćemo vam poslati kada izrazite interesovanje za učešće. \nMožete da prijavite vašu kompaniju na email: events@belhospice.org i  Katarina.nedeljkovic@belhospice.org
URL:https://belhospice.org/event/hike-and-bike-for-belhospice/
CATEGORIES:Dogadjaji
ATTACH;FMTTYPE=image/jpeg:https://belhospice.org/wp-content/uploads/2023/03/hike-bike-feature.jpg
END:VEVENT
BEGIN:VEVENT
DTSTART;TZID=UTC:20230501T080000
DTEND;TZID=UTC:20230501T170000
DTSTAMP:20260421T224426
CREATED:20230402T142654Z
LAST-MODIFIED:20230402T142654Z
UID:4380-1682928000-1682960400@belhospice.org
SUMMARY:BELKviz
DESCRIPTION:Uživo: maj 2023. \nOnlajn: mart – decembar 2023. \nCilj BELKviza je da uključi društveno odgovorne kompanije i da unapredi timski duh zaposlenih kroz takmičenje i podršku timu\, istovremeno pomažući BELhospice centru da nastavi da pruža besplatne usluge obolelim od raka i članovima njihovih porodica. \nBELKviz može da se organizuje i onlajn i uživo\, a predviđeno trajanje kviza je 90 minuta. \nKviz je kreativan\, zabavan\, i sačinjen od raznih igara. \nKviz može da se organizuje interno u okviru kompanije\, kao tim building\, u kom slučaju kompanija može da prijavi više učesnika a termin održavanja je fleksibilan. \nBELhospice će da nagradi pobednički tim\, kao i najboljeg učesnika kviza. \nOnlajn kviz će biti snimljen\, i poslaćemo link svim kompanijama koje učestvuju. \nPored internih takmičenja – tim bildinga\, kompanije mogu da se takmiče međusobno\, a mogu da pozovu i izazovu tim iz drugih kompanija da učestvuju u kvizu. Kviz između kompanija će se održati uživo u maju 2023. godine. Maksimalan broj učesnika po kompaniji je 10\, a najbolji tim kao i najbolji učesnik iz svakog tima dobiće adekvatne nagrade. \nUz odobrenje kompanija\, takmičenja se mogu objavljivati putem naših društvenih mreža i YouTube kanala. \nZa više informacija ili za prijavu učešća\, kontaktirajte nas na email: valentina.perovic@belhospice.org i events@belhospice.org
URL:https://belhospice.org/event/belkviz/
CATEGORIES:Dogadjaji
ATTACH;FMTTYPE=image/png:https://belhospice.org/wp-content/uploads/2023/03/image-2.png
END:VEVENT
BEGIN:VEVENT
DTSTART;VALUE=DATE:20230423
DTEND;VALUE=DATE:20230424
DTSTAMP:20260421T224426
CREATED:20230402T142508Z
LAST-MODIFIED:20230402T142508Z
UID:4378-1682208000-1682294399@belhospice.org
SUMMARY:BELhospice tim na Beogradskom maratonu
DESCRIPTION:Beogradski maraton je savršena prilika da podržite rad BELhospice centra. Bilo da ste iskusni trkač ili imate želju da po prvi put kročite u svet trčanja\, BELhospice vas očekuje. \nOdaberite jednu od tri trke na maratonu\, trenirajte\, obavestite druge u svom okruženju i prikupite donacije za BELhospice. \n \nPriključite se timu koji raste iz dana u dan. \nZa više informacija o događaju ili o sponzorskim paketima kontaktirajte nas na email: predrag.simic@belhospice.org i events@belhospice.org
URL:https://belhospice.org/event/belhospice-tim-na-beogradskom-maratonu/
CATEGORIES:Dogadjaji
ATTACH;FMTTYPE=image/png:https://belhospice.org/wp-content/uploads/2023/03/image-1.png
END:VEVENT
BEGIN:VEVENT
DTSTART;TZID=UTC:20230402T080000
DTEND;TZID=UTC:20231231T170000
DTSTAMP:20260421T224426
CREATED:20230402T184541Z
LAST-MODIFIED:20230402T184541Z
UID:4469-1680422400-1704042000@belhospice.org
SUMMARY:Donirajte svoj rođendan!
DESCRIPTION:Donirajte svoj rođendan! \nPridružite se našoj akciji “Doniraj svoj rođendan” i pomozite  nam da prikupimo 7.500 EUR \nPobrinite se da ovogodišnji rođendan bude za pamćenje! \nIskoristite svoj omiljeni dan u godini da promenite kvalitet života pacijenata i dece koja boluju od životno ograničavajućih bolesti u Srbiji. \nZamolite svoje prijatelje da\, umesto da vam kupuju poklon za rođendan\, doniraju BELhospice-u. \nBELhospice će da napiše Zahvalnicu i rođendansku čestitku za vašeg prijatelja i objaviće vašu donaciju na našim društvenim mrežama. \nOvde možete da pročitate uputstva kako da donirate. \nDonaciju možete da uplatite na BELhospice račun ili da pokrenete svoju fandrejzing stranu za prikupljanje donacija. \n  \nPrimeri akcija za doniraj rođendan \nAna Simona Zelenović je organizovala rođendansku žurku i prikupila je 80.000 RSD\, Dragan Odžaklijević je donirao 21.000 RSD za svoj rođendan u februaru 2023. godine. \nZa više informacije o ovoj BELhospice akciji možete da nas kontaktirate na email: katarina.nedeljkovic@belhospice.org
URL:https://belhospice.org/event/donirajte-svoj-rodendan/
CATEGORIES:Kampanje
ATTACH;FMTTYPE=image/jpeg:https://belhospice.org/wp-content/uploads/2023/04/rodjendan.jpg
END:VEVENT
BEGIN:VEVENT
DTSTART;VALUE=DATE:20230308
DTEND;VALUE=DATE:20230309
DTSTAMP:20260421T224426
CREATED:20230308T120944Z
LAST-MODIFIED:20230402T181743Z
UID:4340-1678233600-1678319999@belhospice.org
SUMMARY:BELhospice turnir u kuglanju
DESCRIPTION:BELhospice organizuje 13. humanitarni turnir u kuglanju 8. marta 2023. godine povodom obeležavanja Međunarodnog dana žena. \nKompanije mogu da prijave učešče svojih ženskih timova u kuglanju i da na taj način podrže rad BELhospice-a. \nMožete da prijavite svoju kompaniju na email: katarina.nedeljkovic@belhospice.org i events@belhospice.org \nOvaj događaj je savršena prilika da vaše zaposlene provedu zabavan dan radeći nešto lepo za druge – obolele od raka i decu koja boluju od raka i drugih neizlečivih bolesti. \n \nBELhospice će obezbediti promociju i vidljivost vaše kompanije u zavisnosti od sponzorskog paketa koji ćemo vam poslati kada izrazite interesovanje za ućešće. \nZa više informacija o ovom događaju možete da kontaktirate našeg fandrejzera na email: katarina.nedeljkovic@belhospice.org
URL:https://belhospice.org/event/belhospice-turnir-u-kuglanju/
CATEGORIES:Dogadjaji
END:VEVENT
BEGIN:VEVENT
DTSTART;TZID=UTC:20230101T080000
DTEND;TZID=UTC:20231231T170000
DTSTAMP:20260421T224426
CREATED:20230402T183852Z
LAST-MODIFIED:20230402T183852Z
UID:4457-1672560000-1704042000@belhospice.org
SUMMARY:Vaš proizvod može da doda osmeh na nečije lice
DESCRIPTION:Vaš proizvod može da doda osmeh na nečije lice \nCilj kampanje je da podstakne korporativni sektor i preduzetnike da deo prihoda od prodaje svojih proizvoda\, na određeni period\, doniraju BELhospice centru i na taj način podrže zbrinjavanje obolelih od raka. \nKompanije mogu da se priključe ovoj akciji tokom cele godine. Informacije o prikupljenim sredstvima biće objavljene putem BELhospice društvenih mreža i na našem veb sajtu. \nKompanije određuju datum kampanje\, proizvod\, način promocije kampanje i procenat od prodaje koji će biti doniran. Učešćem u kampanji\, kompanije povećavaju prodaju i istovremeno promovišu svoju društvenu odgovornost prema najugroženijim grupama. \nMožete da prijavite svoju kompaniju na email: valentina.perovic@belhospice.org i events@belhospice.org
URL:https://belhospice.org/event/vas-proizvod-moze-da-doda-osmeh-na-necije-lice/
CATEGORIES:Kampanje
ATTACH;FMTTYPE=image/png:https://belhospice.org/wp-content/uploads/2023/04/osmeh.png
END:VEVENT
BEGIN:VEVENT
DTSTART;TZID=UTC:20230101T080000
DTEND;TZID=UTC:20230601T170000
DTSTAMP:20260421T224426
CREATED:20230402T183658Z
LAST-MODIFIED:20230402T183658Z
UID:4449-1672560000-1685638800@belhospice.org
SUMMARY:Trči i šetaj za BELhospice
DESCRIPTION:Za kompanije  \nTrčite i šetajte za BELhospice je kampanja usmerena ka korporativnom sektoru i održaće se od 14. novembra 2022. do juna 2023. i od oktobra 2023. do juna 2024. \nOva kampanja ima za cilj da ukaže na važnost vođenja zdravog načina života kroz redovnu fizičku aktivnost ujedno pomažući da se prikupe sredstva za BELhospice centar. \nKampanja je podeljena u dva ciklusa\, prvi će se održati od 14. novembra 2022. do 14. juna 2023. – prijave su otvorene stalno\, a drugi ciklus će se održati od 20. oktobra do 20. juna 2024. godine – rok za prijavu je 10. oktobar 2023. \nPotrebno je da učesnici mere broj pređenih kilometara instaliranjem PACER aplikacije kada dobiju uputstva. \nNajbolji rezultati među predstavnicima kompanija i/ili pojedinačnim registrovanim učesnicima se biraju svakog meseca\, a 10 učesnika sa najboljim rezultatom dobijaju nagradu i biće promovisani putem društvenih mreža. \nBELhospice će obezbediti promociju i vidljivost vaše kompanije na bilbordima postavljenim u Beogradu. Vaš logo će biti vidljiv u zavisnosti od sponzorskog paketa koje ćemo vam poslati kada izrazite interesovanje za učešće. \nMožete da prijavite vašu kompaniju na email: katarina.nedeljkovic@belhospice.org i events@belhospice.org \nNapravite zdravije izbore! Održavajte zdrav način života kroz redovnu fizičku aktivnost\, i na taj način pomozite BELhospice-u u prikupljanju sredstava. \nPridružite se našoj Trči ili šetaj za BELhospice akciji od februara do juna 2023. godine i pomozite nam da prikupimo 3.000 EUR. \n  \nZa pojedince \nPojedinci iz Srbije koji žele da učestvuju mogu da se pridruže našoj akciji uplatom od 1.200 dinara ili više na BELhospice račun 170-230030536-65 ili online donacijom na Trči i šetaj stranici. \nDostavite dokaz o uplati na runandwalk@belhospice.org i sačekajte da vam stigne Pacer Challenge kod. \n10 najboljih rezultata sa najviše pređenih kilometara će biti objavljeni putem BELhospice društvenih mreža i na našem veb sajtu. \nUkoliko živite u inostranstvu\, takođe možete da učestvujete u našoj Trči i šetaj akciji uplatom od 10 EUR\, USD\, GBP ili više na račun RS35170000023003000509 \nFor more information\, please contact our fundraiser at  e-mail: katarina.nedeljkovic@belhospice.org
URL:https://belhospice.org/event/trci-i-setaj-za-belhospice/
CATEGORIES:Kampanje
ATTACH;FMTTYPE=image/jpeg:https://belhospice.org/wp-content/uploads/2023/04/trci-setaj.jpg
END:VEVENT
END:VCALENDAR